BEGIN:VCALENDAR
VERSION:2.0
BEGIN:VEVENT
DTSTART:20260505T060000Z
DTEND:20260505T080000Z
SUMMARY:Paint & Sip at 11th Avenue Queenstown
LOCATION:11th Avenue Restaurant, 1/25 Eleventh Avenue, Lower Shotover, Queenstown, 9304, New Zealand
END:VEVENT
END:VCALENDAR