BEGIN:VCALENDAR
VERSION:2.0
BEGIN:VEVENT
DTSTART:20260428T060000Z
DTEND:20260428T080000Z
SUMMARY:Artvine Paint & Sip at Pavilion Queenstown
LOCATION:Pavilion Queenstown, 19 Grant Road, Frankton, Queenstown, 9300
END:VEVENT
END:VCALENDAR